BEGIN:VCALENDAR
VERSION:2.0
PRODID:-//Tukios.com/
BEGIN:VEVENT
UID:5be70044-a6ac-4864-8918-1fb78ba53546@www.butzinmarchant.com
DTSTAMP:20260422T010935Z
DTSTART:20260606T190000Z
DTEND:20260606T200000Z
SUMMARY:Celebration of Life
DESCRIPTION:
URL:https://www.butzinmarchant.com/obituaries/nicole-deaver
LOCATION:Plaza Bowl 1216 West Fond Du Lac Street  Ripon WI 54971
GEO:43.8567753;-88.8651792
END:VEVENT
END:VCALENDAR