BEGIN:VCALENDAR
VERSION:2.0
PRODID:-//Tukios.com/
BEGIN:VEVENT
UID:2b8823cd-6c33-48de-8ce4-223793c7a946@www.butzinmarchant.com
DTSTAMP:20260422T011251Z
DTSTART:20260502T190000Z
DTEND:20260502T200000Z
SUMMARY:Memorial Service
DESCRIPTION:
URL:https://www.butzinmarchant.com/obituaries/nicole-deaver
LOCATION: 515 Mayparty Dr  Ripon WI 54971
GEO:43.8520093;-88.8440667
END:VEVENT
END:VCALENDAR