BEGIN:VCALENDAR
VERSION:2.0
PRODID:-//Tukios.com/
BEGIN:VEVENT
UID:37c238df-8370-4034-a9f1-1189f9898600@www.butzinmarchant.com
DTSTAMP:20260422T011409Z
DTSTART:20260502T150000Z
DTEND:20260502T190000Z
SUMMARY:Visitation
DESCRIPTION:
URL:https://www.butzinmarchant.com/obituaries/nicole-deaver
LOCATION:Butzin-Marchant Funeral Home 515 Mayparty Dr  Ripon WI 54971
GEO:43.8520093;-88.8440667
END:VEVENT
END:VCALENDAR