BEGIN:VCALENDAR
VERSION:2.0
PRODID:-//Tukios.com/
BEGIN:VEVENT
UID:3404fb7c-eaa7-43fc-8bd1-02f6eb18f473@www.butzinmarchant.com
DTSTAMP:20260422T012328Z
DTSTART:20260501T190000Z
DTEND:20260501T200000Z
SUMMARY:Memorial Service
DESCRIPTION:
URL:https://www.butzinmarchant.com/obituaries/megan-peschke
LOCATION:The CORE, a 922 Ministry 820 West College Avenue  Appleton WI 
	54914
GEO:44.2623128;-88.4187153
END:VEVENT
END:VCALENDAR