BEGIN:VCALENDAR
VERSION:2.0
PRODID:-//Tukios.com/
BEGIN:VEVENT
UID:960941a7-953e-4b2a-a61f-5f00ff649b2f@www.butzinmarchant.com
DTSTAMP:20260422T011802Z
DTSTART:20260501T180000Z
DTEND:20260501T190000Z
SUMMARY:Visitation
DESCRIPTION:
URL:https://www.butzinmarchant.com/obituaries/megan-peschke
LOCATION:The CORE, a 922 Ministry 820 West College Avenue  Appleton WI 
	54914
GEO:44.2623128;-88.4187153
END:VEVENT
END:VCALENDAR