BEGIN:VCALENDAR
VERSION:2.0
PRODID:-//Tukios.com/
BEGIN:VEVENT
UID:4d241db9-5940-48d7-90a8-f9de8a945913@www.butzinmarchant.com
DTSTAMP:20260422T011843Z
DTSTART:20260430T220000Z
DTEND:20260501T000000Z
SUMMARY:Visitation
DESCRIPTION:
URL:https://www.butzinmarchant.com/obituaries/megan-peschke
LOCATION:Butzin-Marchant Funeral Home 515 Mayparty Dr  Ripon WI 54971
GEO:43.8520093;-88.8440667
END:VEVENT
END:VCALENDAR