BEGIN:VCALENDAR
VERSION:2.0
PRODID:-//Tukios.com/
BEGIN:VEVENT
UID:00b094ba-b047-4498-9d19-05d7bb8f5de1@www.butzinmarchant.com
DTSTAMP:20260423T004750Z
DTSTART:20260428T160000Z
DTEND:20260428T170000Z
SUMMARY:Funeral Service
DESCRIPTION:
URL:https://www.butzinmarchant.com/obituaries/mary-albright
LOCATION:Our Saviour’s United Church of Christ 343 Scott Street  Ripon 
	WI 54971
GEO:43.8451763;-88.8337091
END:VEVENT
END:VCALENDAR