BEGIN:VCALENDAR
VERSION:2.0
PRODID:-//Tukios.com/
BEGIN:VEVENT
UID:4bb50c48-45d5-4464-bdee-6f711d6fd243@www.butzinmarchant.com
DTSTAMP:20260423T004338Z
DTSTART:20260428T150000Z
DTEND:20260428T160000Z
SUMMARY:Visitation
DESCRIPTION:
URL:https://www.butzinmarchant.com/obituaries/mary-albright
LOCATION:Our Saviour’s United Church of Christ 343 Scott Street  Ripon 
	WI 54971
GEO:43.8451763;-88.8337091
END:VEVENT
END:VCALENDAR