BEGIN:VCALENDAR
VERSION:2.0
PRODID:-//Tukios.com/
BEGIN:VEVENT
UID:ba0989f3-f03a-4ccc-bd0a-62b96f156868@www.butzinmarchant.com
DTSTAMP:20260425T011550Z
DTSTART:20260516T160000Z
DTEND:20260516T170000Z
SUMMARY:Memorial Service
DESCRIPTION:
URL:https://www.butzinmarchant.com/obituaries/marian-mildebrandt
LOCATION:Peace Lutheran Church 440 Lake St  Green Lake WI 54941
GEO:43.8408501;-88.9581619
END:VEVENT
END:VCALENDAR