BEGIN:VCALENDAR
VERSION:2.0
PRODID:-//Tukios.com/
BEGIN:VEVENT
UID:50a99d85-8672-45b5-8c3b-94c3b1b75b15@www.butzinmarchant.com
DTSTAMP:20260425T011544Z
DTSTART:20260516T140000Z
DTEND:20260516T160000Z
SUMMARY:Visitation
DESCRIPTION:
URL:https://www.butzinmarchant.com/obituaries/marian-mildebrandt
LOCATION:Peace Lutheran Church 440 Lake St  Green Lake WI 54941
GEO:43.8408501;-88.9581619
END:VEVENT
END:VCALENDAR