BEGIN:VCALENDAR
VERSION:2.0
PRODID:-//Tukios.com/
BEGIN:VEVENT
UID:5534c49e-9ea0-41f8-959c-8d1a2235ba63@www.butzinmarchant.com
DTSTAMP:20260424T233944Z
DTSTART:20260501T230000Z
DTEND:20260502T000000Z
SUMMARY:Funeral Service
DESCRIPTION:
URL:https://www.butzinmarchant.com/obituaries/brooke-krueger
LOCATION:Butzin-Marchant Funeral Home 515 Mayparty Dr  Ripon WI 54971
GEO:43.8520093;-88.8440667
END:VEVENT
END:VCALENDAR