BEGIN:VCALENDAR
VERSION:2.0
PRODID:-//Tukios.com/
BEGIN:VEVENT
UID:e371541c-9930-4c3f-a425-f3043bdb744c@www.butzinmarchant.com
DTSTAMP:20260424T233524Z
DTSTART:20260501T190000Z
DTEND:20260501T230000Z
SUMMARY:Visitation
DESCRIPTION:
URL:https://www.butzinmarchant.com/obituaries/brooke-krueger
LOCATION:Butzin-Marchant Funeral Home 515 Mayparty Dr  Ripon WI 54971
GEO:43.8520093;-88.8440667
END:VEVENT
END:VCALENDAR