BEGIN:VCALENDAR
VERSION:2.0
PRODID:-//Tukios.com/
BEGIN:VEVENT
UID:ac429773-b572-4175-b049-26644b44d8e3@www.butzinmarchant.com
DTSTAMP:20260425T010932Z
DTSTART:20260501T160000Z
DTEND:20260501T170000Z
SUMMARY:Memorial Service
DESCRIPTION:
URL:https://www.butzinmarchant.com/obituaries/ann-somers
LOCATION: 228 E Blossom St  Ripon WI 54971
GEO:43.8444508;-88.8361103
END:VEVENT
END:VCALENDAR