BEGIN:VCALENDAR
VERSION:2.0
PRODID:-//Tukios.com/
BEGIN:VEVENT
UID:825791ca-41d6-4182-b33c-cb26802c626a@www.butzinmarchant.com
DTSTAMP:20260425T010758Z
DTSTART:20260501T140000Z
DTEND:20260501T160000Z
SUMMARY:Visitation
DESCRIPTION:
URL:https://www.butzinmarchant.com/obituaries/ann-somers
LOCATION: 228 E Blossom St  Ripon WI 54971
GEO:43.8444508;-88.8361103
END:VEVENT
END:VCALENDAR